0.3125
0.0
0.0
-0.3125
250000.15625
496874.84375
