0.3125
0.0
0.0
-0.3125
275000.15625
490624.84375
