0.3125
0.0
0.0
-0.3125
110000.15625
456249.84375
