0.3125
0.0
0.0
-0.3125
75000.15625
449999.84375
