0.3125
0.0
0.0
-0.3125
80000.15625
440624.84375
