0.3125
0.0
0.0
-0.3125
35000.15625
418749.84375
