0.3125
0.0
0.0
-0.3125
95000.15625
421874.84375
