0.3125
0.0
0.0
-0.3125
95000.15625
412499.84375
