0.3125
0.0
0.0
-0.3125
145000.15625
406249.84375
