0.3125
0.0
0.0
-0.3125
10000.15625
393749.84375
