0.3125
0.0
0.0
-0.3125
15000.15625
393749.84375
