0.3125
0.0
0.0
-0.3125
0.15625
381249.84375
