0.3125
0.0
0.0
-0.3125
25000.15625
387499.84375
