0.3125
0.0
0.0
-0.3125
55000.15625
378124.84375
