0.3125
0.0
0.0
-0.3125
40000.15625
368749.84375
