0.3125
0.0
0.0
-0.3125
65000.15625
374999.84375
