0.3125
0.0
0.0
-0.3125
85000.15625
365624.84375
