0.3125
0.0
0.0
-0.3125
180000.15625
337499.84375
