0.3125
0.0
0.0
-0.3125
275000.15625
609374.84375
