0.3125
0.0
0.0
-0.3125
270000.15625
606249.84375
