0.3125
0.0
0.0
-0.3125
170000.15625
299999.84375
