2.5
0.0
0.0
-2.5
1.25
399998.75
