2.5
0.0
0.0
-2.5
40001.25
399998.75
