2.5
0.0
0.0
-2.5
20001.25
374998.75
