2.5
0.0
0.0
-2.5
-19998.75
349998.75
