2.5
0.0
0.0
-2.5
40001.25
349998.75
