1.25
0.0
0.0
-1.25
260000.625
574999.375
