1.25
0.0
0.0
-1.25
280000.625
549999.375
