1.25
0.0
0.0
-1.25
290000.625
512499.375
