1.25
0.0
0.0
-1.25
150000.625
499999.375
