1.25
0.0
0.0
-1.25
130000.625
462499.375
