1.25
0.0
0.0
-1.25
60000.625
449999.375
