1.25
0.0
0.0
-1.25
80000.625
424999.375
