1.25
0.0
0.0
-1.25
0.625
387499.375
