1.25
0.0
0.0
-1.25
170000.625
374999.375
