1.25
0.0
0.0
-1.25
-9999.375
349999.375
